BEGIN:VCALENDAR
VERSION:2.0
PRODID:-//San Diego County Fire Prevention Officers Association - ECPv6.15.18//NONSGML v1.0//EN
CALSCALE:GREGORIAN
METHOD:PUBLISH
X-ORIGINAL-URL:https://sdcfpoa.org
X-WR-CALDESC:Events for San Diego County Fire Prevention Officers Association
REFRESH-INTERVAL;VALUE=DURATION:PT1H
X-Robots-Tag:noindex
X-PUBLISHED-TTL:PT1H
BEGIN:VTIMEZONE
TZID:UTC
BEGIN:STANDARD
TZOFFSETFROM:+0000
TZOFFSETTO:+0000
TZNAME:UTC
DTSTART:20250101T000000
END:STANDARD
END:VTIMEZONE
BEGIN:VEVENT
DTSTART;TZID=UTC:20260616T080000
DTEND;TZID=UTC:20260617T170000
DTSTAMP:20260420T091111
CREATED:20260226T162219Z
LAST-MODIFIED:20260226T165057Z
UID:361-1781596800-1781715600@sdcfpoa.org
SUMMARY:Statutes and Regulations
DESCRIPTION:Stats Regs Flyer June 2026 \nJoin us for 2 days of Professional Fire Prevention Training \nThis 2-day OSFM course provides hands-on training. Topics include codes\, standards and local amendments\, site-plan review\, building construction and characteristics\, fire protection equipment\, multi-family occupancies\, commercial buildings\, care facilities\, drinking/dining facilities\, shopping malls\, and high-rise buildings.  Presented by: Representatives from the Office of the State Fire Marshal (OSFM). \nThis course satisfies the Task Book requirements for Fire Marshal\, Plans Examiner\, and Fire Inspector. \nTuesday June 16th – Wednesday June 17th \n0800-1700 \nSan Marcos Regional Emergency Services Training Center \n184 Santar Pl\, San Marcos\, CA 92069
URL:https://sdcfpoa.org/event/statutes-and-regulations/
LOCATION:San Marcos Regional Emergency Services Training Center\, 184 Santar Place\, San Marcos\, CA
ORGANIZER;CN="San Diego County Fire Prevention Officers Association":MAILTO:sdcfpo@gmail.com
END:VEVENT
END:VCALENDAR